BEGIN:VCALENDAR
VERSION:2.0
PRODID:-//ACUElValle - ECPv6.15.20//NONSGML v1.0//EN
CALSCALE:GREGORIAN
METHOD:PUBLISH
X-WR-CALNAME:ACUElValle
X-ORIGINAL-URL:https://elvallezonacomercial.com
X-WR-CALDESC:Eventos para ACUElValle
REFRESH-INTERVAL;VALUE=DURATION:PT1H
X-Robots-Tag:noindex
X-PUBLISHED-TTL:PT1H
BEGIN:VTIMEZONE
TZID:UTC
BEGIN:STANDARD
TZOFFSETFROM:+0000
TZOFFSETTO:+0000
TZNAME:UTC
DTSTART:20250101T000000
END:STANDARD
END:VTIMEZONE
BEGIN:VEVENT
DTSTART;TZID=UTC:20260213T173000
DTEND;TZID=UTC:20260213T193000
DTSTAMP:20260422T084227
CREATED:20260310T111656Z
LAST-MODIFIED:20260310T111658Z
UID:1098-1771003800-1771011000@elvallezonacomercial.com
SUMMARY:SAN VALENTÍN
DESCRIPTION:El amor se mueve por el Valle San Lorenzo ❤️✨ \n\n\n\nEste 13 de febrero\, déjate sorprender por los Mensajeros del Amor 💌Un recorrido especial por las calles del Valle lleno de pequeños sketches\, relatos románticos y dinámicas que te sacarán una sonrisa… o quizá un suspiro 💫 \n\n\n\n🕯️ De 17:30h a 19:30h📍 Por las calles del Valle San Lorenzo \n\n\n\nVen a pasear\, a sentir y a vivir el amor de una forma diferente.Porque aquí\, el amor también se comparte en la calle 💖
URL:https://elvallezonacomercial.com/evento/san-valentin
ATTACH;FMTTYPE=image/jpeg:https://elvallezonacomercial.com/wp-content/uploads/2026/03/WhatsApp-Image-2026-03-03-at-1.47.26-PM.jpeg
END:VEVENT
END:VCALENDAR