BEGIN:VCALENDAR
VERSION:2.0
PRODID:-//ACUElValle - ECPv6.15.20//NONSGML v1.0//EN
CALSCALE:GREGORIAN
METHOD:PUBLISH
X-WR-CALNAME:ACUElValle
X-ORIGINAL-URL:https://elvallezonacomercial.com
X-WR-CALDESC:Eventos para ACUElValle
REFRESH-INTERVAL;VALUE=DURATION:PT1H
X-Robots-Tag:noindex
X-PUBLISHED-TTL:PT1H
BEGIN:VTIMEZONE
TZID:UTC
BEGIN:STANDARD
TZOFFSETFROM:+0000
TZOFFSETTO:+0000
TZNAME:UTC
DTSTART:20190101T000000
END:STANDARD
END:VTIMEZONE
BEGIN:VTIMEZONE
TZID:UTC
BEGIN:STANDARD
TZOFFSETFROM:+0000
TZOFFSETTO:+0000
TZNAME:UTC
DTSTART:20210101T000000
END:STANDARD
END:VTIMEZONE
BEGIN:VEVENT
DTSTART;TZID=UTC:20250428T000000
DTEND;TZID=UTC:20250504T235959
DTSTAMP:20260422T100145
CREATED:20251123T115749Z
LAST-MODIFIED:20251123T115750Z
UID:1038-1745798400-1746403199@elvallezonacomercial.com
SUMMARY:DÍA DE LA MADRE
DESCRIPTION:5 DE MAYO \n\n\n\n🌸✨ ¡El Día de la Madre se celebra a lo grande en El Valle San Lorenzo!Y tú puedes llevarte un regalazo solo por apoyar al comercio local 💝 \n\n\n\n🛍️ Del 28 de abril al 4 de mayo\, por compras iguales o superiores a 20 € en cualquiera de los establecimientos asociados a ACU del Valle\, entras en el sorteo de: \n\n\n\n🎁 3 cheques regalo de 50 € cada uno(para disfrutar exclusivamente en comercios locales del Valle San Lorenzo) \n\n\n\n📅 Sorteo: 5 de mayo📲 Escanea el QR en los carteles y participa al instante \n\n\n\n✨ Cuando eliges comprar cerca\, haces que nuestro barrio crezca.Apoya lo nuestro\, ¡apoya el comercio local! 💪
URL:https://elvallezonacomercial.com/evento/dia-de-la-madre-3
ATTACH;FMTTYPE=image/jpeg:https://elvallezonacomercial.com/wp-content/uploads/2025/11/WhatsApp-Image-2025-11-13-at-11.58.08-AM.jpeg
END:VEVENT
BEGIN:VEVENT
DTSTART;TZID=UTC:20250319T000000
DTEND;TZID=UTC:20250319T235959
DTSTAMP:20260422T100145
CREATED:20251123T115549Z
LAST-MODIFIED:20251123T115551Z
UID:1036-1742342400-1742428799@elvallezonacomercial.com
SUMMARY:EL MEJOR REGALO PARA PAPÁ
DESCRIPTION:19 DE MARZO \n\n\n\n🎉 ¡El Mejor Regalo para Papá! ¡Una sorpresa en cada giro! 🎉 \n\n\n\n👨‍👧‍👦 Este 19 de marzo ven a disfrutar de un evento especial con ACU del Valle . Tenemos preparada una ruleta llena de sorpresas increíbles celebrando El Día del Padre🎁✨ \n\n\n\n🛍️ ¿Cómo participar?Desde el 12 hasta el 19 de marzo \, por compras o consumiciones superiores a 10€ en los comercios asociados a ACU del Valle \, podrás ganar increíbles premios. Solo presenta tu ticket de compra el 19 de marzo y gira la ruleta. ¡La suerte está de tu lado! 🍀🎡 \n\n\n\n📍 Te esperamos el:📆 19 Marzo📌 Zona del Puente\, Valle San Lorenzo🕔 Horario: 17:00h – 20:00h \n\n\n\n💙 ¡No dejes pasar la oportunidad de sorprender a papá y compartir un día inolvidable en familia en El Valle San Lorenzo!
URL:https://elvallezonacomercial.com/evento/el-mejor-regalo-para-papa
END:VEVENT
BEGIN:VEVENT
DTSTART;TZID=UTC:20250214T000000
DTEND;TZID=UTC:20250214T235959
DTSTAMP:20260422T100145
CREATED:20251123T115215Z
LAST-MODIFIED:20251123T115217Z
UID:1024-1739491200-1739577599@elvallezonacomercial.com
SUMMARY:AMA TU COMERCIO
DESCRIPTION:14 DE FEBRERO \n\n\n\n💖✨ ¡Este febrero\, celebra el amor apoyando a nuestros comercios locales! ✨💖 \n\n\n\n🌹 #AMATUCOMERCIO en este mes de San Valentín y encuentra el mejor regalo cerca de ti en El Valle San Lorenzo. 💝 \n\n\n\n💎 Cada tienda\, cada producto\, cada detalle está lleno de cariño y dedicación\, ¡y lo mejor es que lo tienes a un paso de tu hogar! 🎁 \n\n\n\n🌟 Celebra el amor y hazlo especial apoyando a nuestros comercios locales. Juntos\, hacemos crecer nuestra comunidad. 🙌🏼 \n\n\n\n📍 Ven a El Valle San Lorenzo y descubre todo lo que tenemos para ti. ¡El mejor regalo está más cerca de lo que piensas! 🎉
URL:https://elvallezonacomercial.com/evento/ama-tu-comercio
ATTACH;FMTTYPE=image/jpeg:https://elvallezonacomercial.com/wp-content/uploads/2025/11/WhatsApp-Image-2025-11-13-at-11.56.51-AM.jpeg
END:VEVENT
BEGIN:VEVENT
DTSTART;TZID=UTC:20241129T000000
DTEND;TZID=UTC:20241129T235959
DTSTAMP:20260422T100145
CREATED:20241125T182851Z
LAST-MODIFIED:20241125T182853Z
UID:902-1732838400-1732924799@elvallezonacomercial.com
SUMMARY:¡BLACK FREEDAY!
DESCRIPTION:🎉 ¡El Black Friday llega a ACU del Valle con grandes sorpresas! 🎡 \n\n\n\n🗓️ Este 29 de noviembre \, ven a la zona del puente de 17:00 a 20:00 horas y participa en nuestra Ruleta de Premios . Solo necesitas tu ticket de compra de los comercios asociados a ACU del Valle (válidos del 25 al 29 de noviembre ) para girar la ruleta y ganar premios 👏🎁 ✨ \n\n\n\n¡No te lo pierdas!:✅ Aprovecha las ofertas en nuestros comercios. ✅ Trae tu ticket y participa en la diversión.✅ Tenemos una chocolatada para celebrarlo. ⏳ Premios disponibles hasta fin de existencias. \n\n\n\n📍 Te esperamos este viernes en la Zona del Puente\, El Valle San Lorenzo 🎡 \n\n\n\n¡Haz tus compras\, gira la ruleta y gana!
URL:https://elvallezonacomercial.com/evento/black-freeday
ATTACH;FMTTYPE=image/jpeg:https://elvallezonacomercial.com/wp-content/uploads/2024/11/IMG_9143.jpeg
END:VEVENT
BEGIN:VEVENT
DTSTART;TZID=UTC:20241115T000000
DTEND;TZID=UTC:20241129T235959
DTSTAMP:20260422T100145
CREATED:20241125T183204Z
LAST-MODIFIED:20241125T183205Z
UID:905-1731628800-1732924799@elvallezonacomercial.com
SUMMARY:TARDES DE CASTAÑAS DULCES Y VINO 2024
DESCRIPTION:¡Ven a celebrar las Tardes de Castañas\, Dulces y Vinos 2024 en el Valle San Lorenzo! 🌰 \n\n\n\nA partir del 15 de noviembre\, ¡disfruta de nuestras castañas y tradiciones! \n\n\n\n📅 Agenda destacada: \n\n\n\n👉🏻 28 de noviembre: Visita de figuras luminosas y disfruta del taller infantil de cacharros. \n\n\n\n👉🏻 29 de noviembre: ¡Participa en la Ruleta del Black Friday! Y para cerrar con broche de oro\, chocolatada gratuita. \n\n\n\n🍷 Además\, te invitamos a la Ruta de la Tapa “Sabores del Valle” el 28 y 29 de noviembre. Sabores únicos\, ¡imperdible! \n\n\n\n🎶 Todo esto acompañado de música itinerante que llenará de alegría nuestras calles. \n\n\n\n¡Te esperamos en el Valle San Lorenzo para celebrar juntos!
URL:https://elvallezonacomercial.com/evento/tardes-de-castanas-dulces-y-vino-2024
ATTACH;FMTTYPE=image/jpeg:https://elvallezonacomercial.com/wp-content/uploads/2024/11/IMG_9142.jpeg
END:VEVENT
BEGIN:VEVENT
DTSTART;TZID=UTC:20241028T000000
DTEND;TZID=UTC:20241103T235959
DTSTAMP:20260422T100145
CREATED:20241016T211249Z
LAST-MODIFIED:20241016T211338Z
UID:886-1730073600-1730678399@elvallezonacomercial.com
SUMMARY:FINADOS ¡Una celebración tradicional!
DESCRIPTION:FINADOS ¡Una celebración tradicional!:Por compras superiores a 20€ en los comercios adheridos a ACU El Valle puedes ganar una cesta de regalo con productos locales ( del 28 de octubre al 3 de noviembre)
URL:https://elvallezonacomercial.com/evento/finados-una-celebracion-tradicional
ATTACH;FMTTYPE=image/jpeg:https://elvallezonacomercial.com/wp-content/uploads/2024/10/FINADOS.jpeg
END:VEVENT
BEGIN:VEVENT
DTSTART;TZID=UTC:20231130T000000
DTEND;TZID=UTC:20231203T235959
DTSTAMP:20260422T100145
CREATED:20231123T203632Z
LAST-MODIFIED:20231123T203634Z
UID:841-1701302400-1701647999@elvallezonacomercial.com
SUMMARY:LA RUTA DE LA TAPA "VIVA SAN ANDRÉS"
DESCRIPTION:Por fin llega la fecha más esperada en #ElValleSanLorenzo \n\n\n\n¡RUTA DE LA TAPA VIVA SAN ANDRÉS!‼ \n\n\n\nDesde el 30 de Noviembre hasta el 3 de diciembre\, celebramos nuestra tradicional RUTA DE LA TAPA \n\n\n\nAtento a nuestras redes que iremos informando DE TODAS LAS TAPAS Y COMERCIOS QUE PARTICIPAN \n\n\n\nCompras\, ofertas\, vino\, tapas\, castañas y buen ambiente ¡Es que el valle lo tiene todo! \n\n\n\nDisfruta del encanto de la medianía en #elvallezonacomercial \n\n\n\n¡Te esperamos!Organiza ACU del Valle y Promoción Económica Arona 
URL:https://elvallezonacomercial.com/evento/la-ruta-de-la-tapa-viva-san-andres
END:VEVENT
BEGIN:VEVENT
DTSTART;TZID=UTC:20231124T100000
DTEND;TZID=UTC:20231124T200000
DTSTAMP:20260422T100145
CREATED:20231123T203041Z
LAST-MODIFIED:20231123T203043Z
UID:837-1700820000-1700856000@elvallezonacomercial.com
SUMMARY:BLACK FRIDAY
DESCRIPTION:BLACK FRIDAY⚫️ en el Valle San Lorenzo‼️ \n\n\n\n📆Fecha: viernes 24 de noviembre 2023🕛Horario desde las 10:00 hasta fin de existencia o 20:00 horas \n\n\n\n✔️Celebramos la Campaña un pétalo una flor 🏵️ \n\n\n\nEste año de nuevo premiamos la fidelidad de los compradores del Valle San Lorenzo👏🏻🛍️ \n\n\n\nObsequiándoles 🎁por compras en los establecimientos asociados con una flor 🌹 \n\n\n\nDisfruta de los descuentos y promociones que tendrán nuestros comercios ‼️💯 \n\n\n\nTe esperamos 😉Promoción Económica Arona@acudelvalle
URL:https://elvallezonacomercial.com/evento/black-friday
ATTACH;FMTTYPE=image/jpeg:https://elvallezonacomercial.com/wp-content/uploads/2023/11/BF.jpg
END:VEVENT
BEGIN:VEVENT
DTSTART;TZID=UTC:20231020T000000
DTEND;TZID=UTC:20231031T235959
DTSTAMP:20260422T100145
CREATED:20231023T100231Z
LAST-MODIFIED:20231023T100233Z
UID:833-1697760000-1698796799@elvallezonacomercial.com
SUMMARY:HALLOWEEN: CONCURSO DE ESCAPARATES
DESCRIPTION:Llega la fecha más terrorífica a #elvallezonacomercial \n\n\n\nDisfruta de nuestros comercios y visita sus ESCAPARATES DEL TERROR \n\n\n\nSubiremos fotos de los diferentes escaparates participantes y el que mas LIKES consiga será el ganador del CONCURSO DE ESCAPARATES DEL TERROR \n\n\n\nVive #Halloween en el Valle San Lorenzo
URL:https://elvallezonacomercial.com/evento/halloween-concurso-de-escaparates
END:VEVENT
BEGIN:VEVENT
DTSTART;TZID=UTC:20230901T000000
DTEND;TZID=UTC:20230915T235959
DTSTAMP:20260422T100145
CREATED:20230904T211437Z
LAST-MODIFIED:20230904T211652Z
UID:826-1693526400-1694822399@elvallezonacomercial.com
SUMMARY:VUELTA AL COLE CON ACU del Valle
DESCRIPTION:VUELTA AL COLE CON ACU del Valle \n\n\n\nDesde nuestra asociación hemos puesto en marcha una acción solidaria de recogida de material escolar a beneficio del \n\n\n\nAmpa del colegio de EL Valle  \n\n\n\nFecha de realización del 01 al 15 de septiembre de 2023 \n\n\n\nComercios: \n\n\n\nERILAU \n\n\n\nDEPORTES CRONOS \n\n\n\nPASTELERÍA EL HORNITO \n\n\n\nEL KILO \n\n\n\nNAÓMI FRANCISCO PELUQUEROS \n\n\n\nColocaremos una caja de recogida en cada comercio para que todos los usuarios que quieran/puedan colaboren con alguna donación de material escolar
URL:https://elvallezonacomercial.com/evento/vuelta-al-cole-con-acu-del-valle
ATTACH;FMTTYPE=image/jpeg:https://elvallezonacomercial.com/wp-content/uploads/2023/09/CARTEL-RECOGIDA-MATERIAL-ESCOLAR-scaled.jpg
END:VEVENT
BEGIN:VEVENT
DTSTART;TZID=UTC:20230501T000000
DTEND;TZID=UTC:20230506T235959
DTSTAMP:20260422T100145
CREATED:20230423T111709Z
LAST-MODIFIED:20230423T111710Z
UID:787-1682899200-1683417599@elvallezonacomercial.com
SUMMARY:DÍA DE LA MADRE
DESCRIPTION:Nuestro Valle se llena de escaparates de flores y colores para darle las GRACIAS A MAMÁ. \n\n\n\nDesde el 1 hasta el 6 de mayo.
URL:https://elvallezonacomercial.com/evento/dia-de-la-madre-2
END:VEVENT
BEGIN:VEVENT
DTSTART;TZID=UTC:20230214T170000
DTEND;TZID=UTC:20230214T200000
DTSTAMP:20260422T100145
CREATED:20230212T222726Z
LAST-MODIFIED:20230212T222728Z
UID:781-1676394000-1676404800@elvallezonacomercial.com
SUMMARY:SAN VALENTÍN 2023
DESCRIPTION:Vive el día del amor en nuestra zona comercial y disfruta de todas las actividades que hemos preparado para ti este 14 de febrero \n\n\n\n. \n\n\n\nZona del puente \n\n\n\nDesde las 17:00 hasta las 20:00 horas \n\n\n\n. \n\n\n\nReparto de rosas a las personas que se encuentren en la zona comercial\, hasta fin de existencias. \n\n\n\nMúsica en directo con violinista \n\n\n\nActividad “El Valle Sostenible” y talleres para potenciar la recogida de enseres \n\n\n\n. \n\n\n\nAdemás de nuestro sorteo activo de BONO REGALO DE 100€ en el Photocall de Corazón \n\n\n\n. \n\n\n\nDisfruta del amor en #elvallezonacomercial
URL:https://elvallezonacomercial.com/evento/san-valentin-2023
END:VEVENT
BEGIN:VEVENT
DTSTART;TZID=UTC:20220503T000000
DTEND;TZID=UTC:20220515T235959
DTSTAMP:20260422T100145
CREATED:20220502T211406Z
LAST-MODIFIED:20220502T211407Z
UID:715-1651536000-1652659199@elvallezonacomercial.com
SUMMARY:Concurso de Fachadas y Balcones 2022
DESCRIPTION:Con el objetivo de embellecer entre todos nuestro pueblo en este mes de mayo con motivo de la Romería de Fátima celebramos un👇🏻. \n\n\n\n‼️CONCURSO DE FACHADAS Y BALCONES‼️ \n\n\n\n.Anímate a decorar tu balcón\, saca tu lado creativo y luce una decoración diferente🤩 Además\, se valorará la utilización de adornos y elementos tradicionales hechos con material reciclado🟢 \n\n\n\n.Para participar solo debes apuntarte en alguno de nuestros comercios asociados o a través de nuestras redes sociales📱. \n\n\n\n👉🏻Las decoraciones deberán estar visibles desde la calle\, e instaladas desde el día 03 de mayo hasta el 15 de mayo\, ambos inclusive. \n\n\n\n👉🏻El jurado realizará las valoraciones el día 11 de mayo de 19:30 a 21:00 horas. \n\n\n\n👉🏻Los ganadores serán notificados por teléfono. \n\n\n\n👉🏻La entrega de premios se realizará el día 15 de mayo en la plaza principal. \n\n\n\nLos 3 ganadores recibirán una cesta conmemorativa. \n\n\n\n.Celebra este mes de mayo en tu pueblo\, en El Valle de San Lorenzo \n\n\n\nConsulta las bases del concurso aquí
URL:https://elvallezonacomercial.com/evento/concurso-de-fachadas-y-balcones-2022
END:VEVENT
BEGIN:VEVENT
DTSTART;TZID=UTC:20220421T000000
DTEND;TZID=UTC:20220504T235959
DTSTAMP:20260422T100145
CREATED:20220502T201959Z
LAST-MODIFIED:20220502T212409Z
UID:701-1650499200-1651708799@elvallezonacomercial.com
SUMMARY:"MI FELICIDAD ES TENER UNA MADRE COMO TÚ"
DESCRIPTION:SORTEO DÍA DE LA MADRE ♥️ \n\n\n\n¿Quieres ganar un detalle especial para mamá? ‼️ Desde ACU El Valle sorteamos el siguiente premio para que disfrutes junto a la mujer de tu vida: \n\n\n\n👉🏻𝐔𝐧 𝐯𝐚𝐥𝐞 𝐝𝐞 200€ 𝐩𝐚𝐫𝐚 canjear en 𝐕𝐢𝐚𝐣𝐞𝐬 𝐆𝐮𝐢𝐚 𝐓𝐨𝐮𝐫🛩️ \n\n\n\nEscapate de viaje\, date un respiro\, reserva un hotel o disfruta de una experiencia inolvidable al lado de tu mamá. \n\n\n\nParticipar es muy fácil: \n\n\n\n👉🏻Realiza una compra de 10€ o más en cualquiera de los comercios asociados a ACU del Valle \n\n\n\n👉🏻Guarda el ticket de compra. \n\n\n\n👉🏻Rellena el formulario que aparece aquí \n\n\n\n¡Ya estás participando! \n\n\n\nEl concurso finalizará el día 30 de abril a las 22h. ¡Estate atent@ porque el día 4 de mayo sacaremos al ganador y lo publicaremos en redes 😉 \n\n\n\nConsulta las Bases de participación.
URL:https://elvallezonacomercial.com/evento/mi-felicidad-es-tener-una-madre-como-tu
END:VEVENT
BEGIN:VEVENT
DTSTART;VALUE=DATE:20220211
DTEND;VALUE=DATE:20220213
DTSTAMP:20260422T100145
CREATED:20220210T214543Z
LAST-MODIFIED:20220210T215958Z
UID:681-1644537600-1644710399@elvallezonacomercial.com
SUMMARY:RUTA DE LA TAPA SAN VALENTIN
DESCRIPTION:ENAMÓRATE EN EL VALLE DE SAN LORENZO❤️🥰 .Vive San Valentín en la #zonacomercialelvalledesanlorenzo📍➡️Ruta de la Tapa 🍴 ➡️Escaparates del Amor💕 \n 
URL:https://elvallezonacomercial.com/evento/ruta-de-la-tapa-san-valentin
ATTACH;FMTTYPE=image/jpeg:https://elvallezonacomercial.com/wp-content/uploads/2022/02/WhatsApp-Image-2022-02-08-at-7.08.19-PM.jpeg
ORGANIZER;CN="ACU EL VALLE":MAILTO:info@elvallezonacomercial.com
END:VEVENT
BEGIN:VEVENT
DTSTART;TZID=UTC:20211223T170000
DTEND;TZID=UTC:20211223T200000
DTSTAMP:20260422T100145
CREATED:20211220T222218Z
LAST-MODIFIED:20220502T201325Z
UID:631-1640278800-1640289600@elvallezonacomercial.com
SUMMARY:VIVE LA NAVIDAD ENCANTADA
DESCRIPTION:VIVE LA NAVIDAD ENCANTADA EN #elvallezonacomercial\nEl próximo jueves 23 de diciembre viviremos una tarde llena de actividades\nPersonajes Navideños\nTalleres Infantiles\nTuna de Navidad\nPhotocall con Papá Noel\nBuzones reales\nActuaciones Musicales\nPhotomaton con fotos navideñas consigue tu vale realizando alguna compra en uno de nuestros comercios asociados\nDesde las 17:00 hasta las 20:00\nOrganiza @elvallezonacomercial y @promocion_arona \nTe esperamos
URL:https://elvallezonacomercial.com/evento/vive-la-navidad-encantada
ATTACH;FMTTYPE=image/jpeg:https://elvallezonacomercial.com/wp-content/uploads/2021/12/FOLLETO-ACTIVIDADES-23-DICIEMBRE-scaled.jpg
ORGANIZER;CN="ACU EL VALLE":MAILTO:info@elvallezonacomercial.com
END:VEVENT
BEGIN:VEVENT
DTSTART;VALUE=DATE:20211214
DTEND;VALUE=DATE:20211226
DTSTAMP:20260422T100145
CREATED:20211214T235250Z
LAST-MODIFIED:20211214T235250Z
UID:627-1639440000-1640476799@elvallezonacomercial.com
SUMMARY:Llega la Navidad Encantada al Valle de San Lorenzo
DESCRIPTION:Llega la Navidad Encantada al Valle de San Lorenzo\n¡Te esperamos! con un montón de actividades para disfrutar juntos\n¡Qué viva la Navidad!\nOrganiza @elvallezonacomercial y @promocion_arona 
URL:https://elvallezonacomercial.com/evento/llega-la-navidad-encantada-al-valle-de-san-lorenzo
ATTACH;FMTTYPE=image/jpeg:https://elvallezonacomercial.com/wp-content/uploads/2021/12/A3_CARTEL_NAVIDAD_2021.jpg
ORGANIZER;CN="ACU EL VALLE":MAILTO:info@elvallezonacomercial.com
END:VEVENT
BEGIN:VEVENT
DTSTART;VALUE=DATE:20211125
DTEND;VALUE=DATE:20211128
DTSTAMP:20260422T100145
CREATED:20211129T201434Z
LAST-MODIFIED:20211129T201621Z
UID:613-1637798400-1638057599@elvallezonacomercial.com
SUMMARY:TARDES DE CASTAÑAS\, DULCES Y VINO
DESCRIPTION:TARDES DE CASTAÑAS\, DULCES Y VINO\n25/26 Y 27 DE NOVIEMBRE 2021\n\nPor fin llega la fecha más esperada en #ElValleSanLorenzo y por partida triple\nEste año celebramos las ¡TARDES DE CASTAÑAS\, DULCES Y VINO! Durante 3 días\nApunta25\, 26 y 27 de noviembre\, nuestro barrio se llenará de olor a castañas para que disfrutes de unos días de tradición y sabor a otoño\nLos comercios ofrecerán fantásticas promociones por el #BlackFriday  y\, además\, realizaremos un montón de actividades en nuestro barrio:\n.\nPuntos de Castañas Asadas  desde el Lunes 22 al Viernes 26.\n.\nEncendido de Luces de Navidad\n.\nRuta de Escaparates Decorados \n.\n Actividades en el Mercado del Agricultor con Parling Gratuito\n.\nRUTA DE LA TAPA Nuestros locales de gastronomía ofrecerán su Ruta de Tapas con sabor a San Andrés con tapas elaboradas a base de castañas y vino \nCompras\, ofertas\, vino\, tapas\, castañas y buen ambiente ¡Es que el valle lo tiene todo!\nDisfruta del encanto de la medianía en #elvallezonacomercial\n¡Te esperamos!
URL:https://elvallezonacomercial.com/evento/tardes-de-castanas-dulces-y-vino
ATTACH;FMTTYPE=image/jpeg:https://elvallezonacomercial.com/wp-content/uploads/2021/11/A3_CARTEL_CASTANAS_Y_VINOS_2021.jpg
ORGANIZER;CN="ACU EL VALLE":MAILTO:info@elvallezonacomercial.com
END:VEVENT
BEGIN:VEVENT
DTSTART;TZID=UTC:20211031T170000
DTEND;TZID=UTC:20211031T200000
DTSTAMP:20260422T100145
CREATED:20211129T201239Z
LAST-MODIFIED:20211129T201239Z
UID:609-1635699600-1635710400@elvallezonacomercial.com
SUMMARY:HALLOWEN 
DESCRIPTION:HALLOWEN\nVIERNES 29/10/2021\n\nVive HALLOWEEN en la zona comercial de El Valle de San Lorenzo\nEl viernes 29/10 desde las 17:00 hasta las 20:00 vivirás una tarde de terror \nVisita nuestros escaparates del terror\nReparto de golosinas en los comercios asociados\nTe esperamos en #elvallezonacomercial
URL:https://elvallezonacomercial.com/evento/hallowen
ATTACH;FMTTYPE=image/jpeg:https://elvallezonacomercial.com/wp-content/uploads/2021/11/246290310_4269302026511661_3464432528747524061_n.jpg
ORGANIZER;CN="ACU EL VALLE":MAILTO:info@elvallezonacomercial.com
END:VEVENT
BEGIN:VEVENT
DTSTART;VALUE=DATE:20210517
DTEND;VALUE=DATE:20210531
DTSTAMP:20260422T100145
CREATED:20210517T191100Z
LAST-MODIFIED:20210517T191100Z
UID:468-1621209600-1622419199@elvallezonacomercial.com
SUMMARY:Concurso de fachadas y balcones
DESCRIPTION:‼️CONCURSO DE FACHADAS Y BALCONES‼️\n.\nAnímate a decorar tu balcón\, saca tu lado creativo y luce una decoración diferente🤩 Además\, se valorará la utilización de adornos y elementos tradicionales hechos con material reciclado🟢\n.\nPara participar solo debes apuntarte en alguno de nuestros comercios asociados o a través de nuestras redes sociales\n.\n🏻Las decoraciones deberán estar visibles desde la calle\, e instaladas desde el lunes 17 de mayo hasta el día 30 de mayo\, ambos inclusive.\n🏻El jurado realizará las valoraciones entre el día 25 y el 27 de mayo.\n🏻Los ganadores serán notificados por teléfono.\n🏻La entrega de premios se realizará el jueves 3 de junio.\n.\nLos 3 ganadores recibirán un diploma de reconocimiento\n.\nCelebra este mes de mayo en tu pueblo\, en El Valle de San Lorenzo🏻\n.\nOrganiza: ACU del Valle y Promoción Económica del Ayuntamiento de Arona 🏻
URL:https://elvallezonacomercial.com/evento/concurso-de-fachadas-y-balcones
ATTACH;FMTTYPE=image/jpeg:https://elvallezonacomercial.com/wp-content/uploads/2021/05/CARTEL-BALCONES-1-scaled.jpg
ORGANIZER;CN="ACU EL VALLE":MAILTO:info@elvallezonacomercial.com
END:VEVENT
BEGIN:VEVENT
DTSTART;VALUE=DATE:20210502
DTEND;VALUE=DATE:20210503
DTSTAMP:20260422T100145
CREATED:20210419T115623Z
LAST-MODIFIED:20230423T111057Z
UID:448-1619913600-1619999999@elvallezonacomercial.com
SUMMARY:Día de la madre
DESCRIPTION:Se acerca el día más importante de la mujer que más queremos: NUESTRA MAMÁ🤱🏻\n\nY los comercios de nuestra #zonacomercialdelvalledesanlorenzo️ ya están preparando todo para que puedas encontrar el detalle perfecto\n\nPorque mi Mamá es la Mejor y se lo merece TODO
URL:https://elvallezonacomercial.com/evento/dia-de-la-madre
ATTACH;FMTTYPE=image/jpeg:https://elvallezonacomercial.com/wp-content/uploads/2021/04/A4_CARTEL_ACU_DIA_DE_LA_MADRE-scaled.jpg
ORGANIZER;CN="ACU EL VALLE":MAILTO:info@elvallezonacomercial.com
END:VEVENT
BEGIN:VEVENT
DTSTART;VALUE=DATE:20210420
DTEND;VALUE=DATE:20210430
DTSTAMP:20260422T100145
CREATED:20210420T161908Z
LAST-MODIFIED:20210420T172911Z
UID:457-1618876800-1619740799@elvallezonacomercial.com
SUMMARY:Sorteo mi mamá es la mejor
DESCRIPTION:SORTEO DÍA DE LA MADRE ♥️\n¿Quieres ganar un detalle especial para mamá? ‼️ Desde Acu El Valle sorteamos los siguientes precios:\nPrimer premio👉🏻𝐔𝐧 𝐯𝐚𝐥𝐞 𝐝𝐞 100€ 𝐩𝐚𝐫𝐚 𝐯𝐢𝐚𝐣𝐚𝐫 𝐝𝐞 𝐕𝐢𝐚𝐣𝐞𝐬 𝐆𝐮𝐢atur🛩️\nSegundo premio👉🏻𝐔𝐧 𝐯𝐚𝐥𝐞 𝐝𝐞 50€ 𝐝𝐞 𝐏𝐢𝐥𝐚𝐫 𝐅𝐮𝐦𝐞𝐫𝐨 P𝐞𝐥𝐮𝐪𝐮𝐞𝐫ía💇🏻\nTercer premio👉🏻𝐔𝐧 𝐯𝐚𝐥𝐞 𝐝𝐞 50€ 𝐝𝐞 𝐍𝐚𝐨𝐦𝐢 𝐅𝐫𝐧𝐜𝐢𝐬𝐜𝐨 𝐏𝐞𝐥𝐮𝐪𝐮𝐞𝐫𝐨s💇🏻♂\n.\nInstrucciones para participar:\n✅ COMENTA esta publicación explicando “𝐌𝐢 𝐌𝐚𝐦𝐚́ 𝐞𝐬 𝐥𝐚 𝐦𝐚́𝐬….? Y el adjetivo que más la caracteriza\n✅ MENCIONA a 3 amigxs\n✅ SIGUE nuestro perfil estar al día de novedades y noticias\n.\nEl concurso finalizará el día 29 de abril a las 24h. ¡Estate atent@ porque el viernes 30 de abril diremos quienes son los 3 ganadores😉\n– El sorteo se realizará en la plataforma sortea2\, de forma aleatoria\, seleccionando todos los participantes de ambas redes sociales (Instagram y Facebook).\n– Sorteo de 3 premios en total con 3 ganadores\, 1 ganador por cada premio.\n– Instagram y Facebook no patrocinan ni avala esta promoción.\n– Los premios serán entregados de forma física el día 6 de mayo en el Valle de San Lorenzo.\n– Los premios deberán ser canjeados antes del día 30 de junio de 2021.\n➡Consulta las Bases de participación: Bases del Sorteo\n¡Mucha suerte!
URL:https://elvallezonacomercial.com/evento/sorteo-mi-mama-es-la-mejor
ATTACH;FMTTYPE=image/jpeg:https://elvallezonacomercial.com/wp-content/uploads/2021/04/WhatsApp-Image-2021-04-20-at-4.54.01-PM-1.jpeg
ORGANIZER;CN="ACU EL VALLE":MAILTO:info@elvallezonacomercial.com
END:VEVENT
BEGIN:VEVENT
DTSTART;VALUE=DATE:20210211
DTEND;VALUE=DATE:20210214
DTSTAMP:20260422T100145
CREATED:20210204T111809Z
LAST-MODIFIED:20210204T111809Z
UID:385-1613001600-1613260799@elvallezonacomercial.com
SUMMARY:Mes del amor en El Valle San Lorenzo
DESCRIPTION:Llega el mes del amor a El Valle de San Lorenzo Disfruta de nuestros comercios y de la ruta gastronómica que tenemos preparada para ti y esa persona especial🥰\n.\nLos días 11\, 12 y 13 de febrero saborea el amor en #elvallezonacomercial♥️\n.\n¡Qué viva el día del amor y la amistad!🏻
URL:https://elvallezonacomercial.com/evento/mes-del-amor-en-el-valle-san-lorenzo
ATTACH;FMTTYPE=image/jpeg:https://elvallezonacomercial.com/wp-content/uploads/2021/02/San-Valentin-ACU-.jpeg
ORGANIZER;CN="ACU EL VALLE":MAILTO:info@elvallezonacomercial.com
END:VEVENT
BEGIN:VEVENT
DTSTART;VALUE=DATE:20201209
DTEND;VALUE=DATE:20210101
DTSTAMP:20260422T100145
CREATED:20210119T171628Z
LAST-MODIFIED:20210119T172041Z
UID:378-1607472000-1609459199@elvallezonacomercial.com
SUMMARY:GRAN SORTEO DE NAVIDAD
DESCRIPTION:Esta Navidadtus compras en el Valle San Lorenzo ¡Tienen premio!\n\nParticipa en nuestro GRAN SORTEO DE NAVIDADy gana 1 Cheque Regalo de 100€para gastar en los comercios de nuestra zona comercial\n\nQueremos premiar tu fidelidad y por ello sorteamos 2 CHEQUES REGALOvalorados en 100€ cada uno por las comprasque realices dentro de los comercios asociados a @elvallezonacomercial\n\n¿Como participar?\nCompra en dos establecimientos de nuestra zona comercial y pide su sello.\nRellena la papeleta con tus datos.\nDeposita la papeleta en las urnas establecidas dentro de los respectivos comercios.\nPodrás participar desde hoy hasta el día 31 de diciembre.\n\nLos ganadores serán revelados el día 4 de enero a través de nuestras redes sociales\n\nUna Navidad para compartir en El Valle San Lorenzo
URL:https://elvallezonacomercial.com/evento/gran-sorteo-de-navidad
ATTACH;FMTTYPE=image/jpeg:https://elvallezonacomercial.com/wp-content/uploads/2021/01/SORTEO-NAVIDAD-ACU-DEL-VALLE-2020-1-1.jpg
ORGANIZER;CN="ACU EL VALLE":MAILTO:info@elvallezonacomercial.com
END:VEVENT
BEGIN:VEVENT
DTSTART;VALUE=DATE:20201125
DTEND;VALUE=DATE:20201128
DTSTAMP:20260422T100145
CREATED:20201117T182842Z
LAST-MODIFIED:20201117T182842Z
UID:231-1606262400-1606521599@elvallezonacomercial.com
SUMMARY:¡TARDES DE CASTAÑAS\, DULCES Y VINO!🌰
DESCRIPTION:Por fin llega la fecha más esperada en #ElValleSanLorenzo y por partida triple \n\n\nEste año celebramos las ¡TARDES DE CASTAÑAS\, DULCES Y VINO! Durante 3 días\n\nApunta25\, 26 y 27 de noviembre\, nuestro barrio se llenará de olor a castañas para que disfrutes de unos días de tradición y sabor a otoño\n\nLos comercios ofrecerán fantásticas promociones por el #BlackFriday y\, además\, podrás observar la decoración navideña de cada uno con motivo de la Ruta de Escaparates\n\nNuestros locales de gastronomía empiezan con su Ruta de Tapas con sabor a San Andrés\, ofreciendo tapas elaboradas a base de castañas para esta ocasión especial\n\nCompras\, ofertas\, vino\, tapas\, castañas y buen ambiente ¡Es que el valle lo tiene todo!Disfruta del encanto de la medianía en #elvallezonacomercial\n\n¡Te esperamos!\n\nOrganiza #ACUdelValle y Promoción Económica Arona
URL:https://elvallezonacomercial.com/evento/tardes-de-castanas-dulces-y-vino%f0%9f%8c%b0
ATTACH;FMTTYPE=image/jpeg:https://elvallezonacomercial.com/wp-content/uploads/2020/11/POSTER-ACU-DEL-VALLE-CASTAÑAS-Y-VINOS-2020.jpg
ORGANIZER;CN="ACU EL VALLE":MAILTO:info@elvallezonacomercial.com
END:VEVENT
BEGIN:VEVENT
DTSTART;TZID=UTC:20201120T190000
DTEND;TZID=UTC:20201120T190000
DTSTAMP:20260422T100145
CREATED:20201119T174520Z
LAST-MODIFIED:20201119T174831Z
UID:352-1605898800-1605898800@elvallezonacomercial.com
SUMMARY:ENCENDIDO DE LUCES DE NAVIDAD
DESCRIPTION:Llega la Navidad a #elvallezonacomercial\n.\nTe esperamos este viernes 20 de noviembre a las 19:00para que disfrutes de nuestro tradicional ENCENDIDO DE LUCES DE NAVIDAD\n.\nUna Navidad para compartir en #ElValleSanLorenzo ¡Te esperamos!
URL:https://elvallezonacomercial.com/evento/encendido-de-luces-de-navidad
ATTACH;FMTTYPE=image/jpeg:https://elvallezonacomercial.com/wp-content/uploads/2020/11/ACU-Caltel-encendido-de-luces-de-Navidad-v2-scaled.jpg
ORGANIZER;CN="ACU EL VALLE":MAILTO:info@elvallezonacomercial.com
END:VEVENT
END:VCALENDAR